BEGIN:VCALENDAR
VERSION:2.0
PRODID:-//www.reclaim.care//NONSGML kigkonsult.se iCalcreator 2.30.10//
CALSCALE:GREGORIAN
METHOD:PUBLISH
UID:748193d3-d4b2-45b7-87e7-6cccaa12fb65
X-WR-CALDESC:Join us on Thursday May 28th 2026 for Youth Pride 2026. It wil
 l be held at the Como Midway Picnic Pavilion Park\n\nYouth Pride is a free
  event for LGBTQIA+ youth ages 13-22. This is an event for young people to
  feel celebrated and strengthen connections to their community. Youth Prid
 e has a little bit of everything\; resources from local organizations serv
 ing queer youth\, activities and games\, performances by amazing entertain
 ers\, food from local businesses\, photo-booths\, and more!
X-WR-RELCALID:a6db4c0bc482c01649136b7080bdb671
X-WR-TIMEZONE:America/Chicago
BEGIN:VTIMEZONE
TZID:America/Chicago
BEGIN:STANDARD
TZNAME:CST
DTSTART:20251102T020000
TZOFFSETFROM:-0500
TZOFFSETTO:-0600
RDATE:20261101T020000
RDATE:20271107T020000
END:STANDARD
BEGIN:DAYLIGHT
TZNAME:CDT
DTSTART:20260308T020000
TZOFFSETFROM:-0600
TZOFFSETTO:-0500
RDATE:20270314T020000
END:DAYLIGHT
END:VTIMEZONE
BEGIN:VEVENT
UID:23dc79e1-293d-4c24-8ff1-2ed9a56df162
DTSTAMP:20260420T085047Z
DESCRIPTION:Join us on Thursday May 28th 2026 for Youth Pride 2026. It will
  be held at the Como Midway Picnic Pavilion Park\n\nYouth Pride is a free 
 event for LGBTQIA+ youth ages 13-22. This is an event for young people to 
 feel celebrated and strengthen connections to their community. Youth Pride
  has a little bit of everything\; resources from local organizations servi
 ng queer youth\, activities and games\, performances by amazing entertaine
 rs\, food from local businesses\, photo-booths\, and more!
DTSTART;TZID=America/Chicago:20260528T160000
DTEND;TZID=America/Chicago:20260528T190000
LOCATION:1199 Midway Pkwy\, Saint Paul\, MN 55103 US
SUMMARY:Queer Youth Pride in the Park
END:VEVENT
END:VCALENDAR
