BEGIN:VCALENDAR
VERSION:2.0
PRODID:-//www.reclaim.care//NONSGML kigkonsult.se iCalcreator 2.30.10//
CALSCALE:GREGORIAN
METHOD:PUBLISH
UID:92272e51-c9bc-4198-8f09-0682e361558f
X-WR-CALDESC:RECLAIM has a number of upcoming volunteer opportunities for p
 eople who are passionate about supporting queer and trans youth mental hea
 lth. \n\nWe have seasonal orientations to bring in new volunteers! Lunch &
  snacks will be served.\n\nPlease be sure to fill out a volunteer applicat
 ion at: https://www.reclaim.care/how-to-help/volunteer.html\n\nRSVP and qu
 estions to grey doolin at grey@reclaim.care
X-WR-RELCALID:3e85d97bef9099a40d63da4b887e2040
X-WR-TIMEZONE:America/Chicago
BEGIN:VTIMEZONE
TZID:America/Chicago
BEGIN:STANDARD
TZNAME:CST
DTSTART:20191103T020000
TZOFFSETFROM:-0500
TZOFFSETTO:-0600
RDATE:20201101T020000
RDATE:20211107T020000
END:STANDARD
BEGIN:DAYLIGHT
TZNAME:CDT
DTSTART:20200308T020000
TZOFFSETFROM:-0600
TZOFFSETTO:-0500
RDATE:20210314T020000
END:DAYLIGHT
END:VTIMEZONE
BEGIN:VEVENT
UID:4d8e43c6-9047-4fc9-a438-265de2de8997
DTSTAMP:20260421T143733Z
DESCRIPTION:RECLAIM has a number of upcoming volunteer opportunities for pe
 ople who are passionate about supporting queer and trans youth mental heal
 th. \n\nWe have seasonal orientations to bring in new volunteers! Lunch & 
 snacks will be served.\n\nPlease be sure to fill out a volunteer applicati
 on at: https://www.reclaim.care/how-to-help/volunteer.html\n\nRSVP and que
 stions to grey doolin at grey@reclaim.care
DTSTART;TZID=America/Chicago:20200810T173000
DTEND;TZID=America/Chicago:20200810T193000
LOCATION:771 Raymond Ave\, St. Paul\, MN 55114
SUMMARY:Volunteer Orientation
END:VEVENT
END:VCALENDAR
