BEGIN:VCALENDAR
VERSION:2.0
PRODID:-//www.reclaim.care//NONSGML kigkonsult.se iCalcreator 2.30.10//
CALSCALE:GREGORIAN
METHOD:PUBLISH
UID:ce25fdad-ebf0-430b-a2c6-8894a26b4ae3
X-WR-CALDESC:RECLAIM has a number of upcoming volunteer opportunities for p
 eople who are passionate about supporting queer and trans youth mental hea
 lth. \n\nWe have seasonal orientations to bring in new volunteers! Lunch &
  snacks will be served.\n\nThere will be another volunteer orientation on 
 August 10.\n\nPlease be sure to fill out a volunteer application at: https
 ://www.reclaim.care/how-to-help/volunteer.html\n\nRSVP and questions to gr
 ey doolin at grey@reclaim.care
X-WR-RELCALID:d7fa94fb0189b02297f564718c74fa5b
X-WR-TIMEZONE:America/Chicago
BEGIN:VTIMEZONE
TZID:America/Chicago
BEGIN:STANDARD
TZNAME:CST
DTSTART:20191103T020000
TZOFFSETFROM:-0500
TZOFFSETTO:-0600
RDATE:20201101T020000
RDATE:20211107T020000
END:STANDARD
BEGIN:DAYLIGHT
TZNAME:CDT
DTSTART:20200308T020000
TZOFFSETFROM:-0600
TZOFFSETTO:-0500
RDATE:20210314T020000
END:DAYLIGHT
END:VTIMEZONE
BEGIN:VEVENT
UID:9702584e-85b0-4fc9-9249-32f542aec0a9
DTSTAMP:20260421T190055Z
DESCRIPTION:RECLAIM has a number of upcoming volunteer opportunities for pe
 ople who are passionate about supporting queer and trans youth mental heal
 th. \n\nWe have seasonal orientations to bring in new volunteers! Lunch & 
 snacks will be served.\n\nThere will be another volunteer orientation on A
 ugust 10.\n\nPlease be sure to fill out a volunteer application at: https:
 //www.reclaim.care/how-to-help/volunteer.html\n\nRSVP and questions to gre
 y doolin at grey@reclaim.care
DTSTART;TZID=America/Chicago:20200511T173000
DTEND;TZID=America/Chicago:20200511T193000
LOCATION:771 Raymond Ave\, St. Paul\, MN 55114
SUMMARY:Volunteer Orientation
END:VEVENT
END:VCALENDAR
