BEGIN:VCALENDAR
VERSION:2.0
PRODID:-//www.reclaim.care//NONSGML kigkonsult.se iCalcreator 2.30.10//
CALSCALE:GREGORIAN
METHOD:PUBLISH
UID:cfe808f8-e2d8-4449-947d-495899f0ddfb
X-WR-CALDESC:As in previous years\, RECLAIM is partnering with Faith United
  Methodist Church and organizing a plant and flower sale to benefit RECLAI
 M - but with social distance!\n\nWhether you are a seasoned plant owner\, 
 or a novice in the realm of house plants\, this is a great opportunity to 
 not only support RECLAIM\, but to adopt a new hobby in these strange times
 .\n\nIf you would like to adopt your new photosynthesizing companion\, you
  can go ahead and fill out the web order form found in this link:\nhttps:/
 /form.jotform.com/201074554400140\n\nAfter you make your plant selection a
 nd fill out your personal information\, the form will take you to the PayP
 al payment page. There\, you can submit your payment information and compl
 ete your purchase. \n\nOrders are due by May 3rd. On May 18th\, your chlor
 ophyll infused pals will be safely delivered to your home or available for
  pick up at RECLAIM (we'll be in touch about logistics).
X-WR-RELCALID:3a69f63c7b764e1605aa5ac5304f8b17
X-WR-TIMEZONE:America/Chicago
BEGIN:VTIMEZONE
TZID:America/Chicago
BEGIN:STANDARD
TZNAME:CST
DTSTART:20191103T020000
TZOFFSETFROM:-0500
TZOFFSETTO:-0600
RDATE:20201101T020000
END:STANDARD
BEGIN:DAYLIGHT
TZNAME:CDT
DTSTART:20200308T020000
TZOFFSETFROM:-0600
TZOFFSETTO:-0500
RDATE:20210314T020000
END:DAYLIGHT
END:VTIMEZONE
BEGIN:VEVENT
UID:6da3306d-494f-473e-b79a-1dca9d8634a9
DTSTAMP:20260421T190434Z
DESCRIPTION:As in previous years\, RECLAIM is partnering with Faith United 
 Methodist Church and organizing a plant and flower sale to benefit RECLAIM
  - but with social distance!\n\nWhether you are a seasoned plant owner\, o
 r a novice in the realm of house plants\, this is a great opportunity to n
 ot only support RECLAIM\, but to adopt a new hobby in these strange times.
 \n\nIf you would like to adopt your new photosynthesizing companion\, you 
 can go ahead and fill out the web order form found in this link:\nhttps://
 form.jotform.com/201074554400140\n\nAfter you make your plant selection an
 d fill out your personal information\, the form will take you to the PayPa
 l payment page. There\, you can submit your payment information and comple
 te your purchase. \n\nOrders are due by May 3rd. On May 18th\, your chloro
 phyll infused pals will be safely delivered to your home or available for 
 pick up at RECLAIM (we'll be in touch about logistics).
DTSTART;TZID=America/Chicago:20200503T000000
DTEND;TZID=America/Chicago:20200503T235900
LOCATION:
SUMMARY:Spring Plant Sale
END:VEVENT
END:VCALENDAR
