BEGIN:VCALENDAR
VERSION:2.0
PRODID:-//www.reclaim.care//NONSGML kigkonsult.se iCalcreator 2.30.10//
CALSCALE:GREGORIAN
METHOD:PUBLISH
UID:6808600a-2151-4e6c-9e7d-97a889d18ff5
X-WR-CALDESC:RECLAIM’s Gratitude Circle is a monthly gathering to express o
 ur gratitude to our community\, donors\, and other volunteers. So many peo
 ple step up to make RECLAIM's work to increase mental health support for q
 ueer and trans youth a possibility and we want to thank them! This is desi
 gned to be a low-pressure\, no commitment opportunity and is a great place
  to start if you want to get more involved with RECLAIM.\n\nActivities wil
 l be different each time\, but include: signing letters and writing postca
 rds\, making phone calls to donors\, folding/stuffing/preparing mailings\,
  and creating/delivering handmade gifts to our steadfast supporters. We'll
  also work on crafts and decorations in preparation for our annual Celebra
 te the Love brunch every February.\n\nWe'll have light snacks and lots of 
 fun! 5:00-6:30 on the Third Monday of each month (unless otherwise indicat
 ed).\n\nRSVP to Samuel at samuel@reclaim.care. You're invited to fill out 
 our volunteer application\, although this is not required.
X-WR-RELCALID:c97820954219e43909c68c0ed9e44006
X-WR-TIMEZONE:America/Chicago
BEGIN:VTIMEZONE
TZID:America/Chicago
BEGIN:STANDARD
TZNAME:CST
DTSTART:20191103T020000
TZOFFSETFROM:-0500
TZOFFSETTO:-0600
RDATE:20201101T020000
END:STANDARD
BEGIN:DAYLIGHT
TZNAME:CDT
DTSTART:20200308T020000
TZOFFSETFROM:-0600
TZOFFSETTO:-0500
RDATE:20210314T020000
END:DAYLIGHT
END:VTIMEZONE
BEGIN:VEVENT
UID:9c1cec09-c18f-4c5e-9433-3a2f76941cf2
DTSTAMP:20260421T202835Z
DESCRIPTION:RECLAIM’s Gratitude Circle is a monthly gathering to express ou
 r gratitude to our community\, donors\, and other volunteers. So many peop
 le step up to make RECLAIM's work to increase mental health support for qu
 eer and trans youth a possibility and we want to thank them! This is desig
 ned to be a low-pressure\, no commitment opportunity and is a great place 
 to start if you want to get more involved with RECLAIM.\n\nActivities will
  be different each time\, but include: signing letters and writing postcar
 ds\, making phone calls to donors\, folding/stuffing/preparing mailings\, 
 and creating/delivering handmade gifts to our steadfast supporters. We'll 
 also work on crafts and decorations in preparation for our annual Celebrat
 e the Love brunch every February.\n\nWe'll have light snacks and lots of f
 un! 5:00-6:30 on the Third Monday of each month (unless otherwise indicate
 d).\n\nRSVP to Samuel at samuel@reclaim.care. You're invited to fill out o
 ur volunteer application\, although this is not required.
DTSTART;TZID=America/Chicago:20200420T170000
DTEND;TZID=America/Chicago:20200420T183000
LOCATION:771 Raymond Ave\, St. Paul\, MN 55114
SUMMARY:Volunteer: Craftitude Circle
END:VEVENT
END:VCALENDAR
