BEGIN:VCALENDAR
VERSION:2.0
PRODID:-//www.reclaim.care//NONSGML kigkonsult.se iCalcreator 2.30.10//
CALSCALE:GREGORIAN
METHOD:PUBLISH
UID:f02af44a-2246-4817-948e-2b1f68c69fc4
X-WR-CALDESC:This training is designed for individuals\, agencies\, and org
 anizations seeking support to create more accessible and friendly environm
 ents for transgender and gender non-conforming people. The training provid
 es the building blocks for trans competent care in helping professions. Pa
 rticipants in with workshop will gain a broad understanding of:\n\n-Transg
 ender and gender non-conforming (TGNC) identities\n-How to use language re
 spectfully while promoting common protective factors.\n-How individuals\, 
 organizations and clinics can make minor adjustments to increase their acc
 essibility for\ntransgender and gender non-conforming individuals\n-How to
  increase accessibility intersectionally\, across race\, class\, gender\, 
 and sexual orientation lines\n-How a healing justice approach can be used 
 to increase assess to competent care
X-WR-RELCALID:18a250a4e972b27685712bf4b4bcad87
X-WR-TIMEZONE:America/Chicago
BEGIN:VTIMEZONE
TZID:America/Chicago
BEGIN:STANDARD
TZNAME:CST
DTSTART:20191103T020000
TZOFFSETFROM:-0500
TZOFFSETTO:-0600
RDATE:20201101T020000
END:STANDARD
BEGIN:DAYLIGHT
TZNAME:CDT
DTSTART:20200308T020000
TZOFFSETFROM:-0600
TZOFFSETTO:-0500
RDATE:20210314T020000
END:DAYLIGHT
END:VTIMEZONE
BEGIN:VEVENT
UID:106761a5-54e2-4030-ab5c-cbcaa9a618df
DTSTAMP:20260421T202640Z
DESCRIPTION:This training is designed for individuals\, agencies\, and orga
 nizations seeking support to create more accessible and friendly environme
 nts for transgender and gender non-conforming people. The training provide
 s the building blocks for trans competent care in helping professions. Par
 ticipants in with workshop will gain a broad understanding of:\n\n-Transge
 nder and gender non-conforming (TGNC) identities\n-How to use language res
 pectfully while promoting common protective factors.\n-How individuals\, o
 rganizations and clinics can make minor adjustments to increase their acce
 ssibility for\ntransgender and gender non-conforming individuals\n-How to 
 increase accessibility intersectionally\, across race\, class\, gender\, a
 nd sexual orientation lines\n-How a healing justice approach can be used t
 o increase assess to competent care
DTSTART;TZID=America/Chicago:20200417T080000
DTEND;TZID=America/Chicago:20200417T170000
LOCATION:
SUMMARY:Trans Competent Care for Helping Professionals
END:VEVENT
END:VCALENDAR
