BEGIN:VCALENDAR
VERSION:2.0
PRODID:-//www.reclaim.care//NONSGML kigkonsult.se iCalcreator 2.30.10//
CALSCALE:GREGORIAN
METHOD:PUBLISH
UID:587ab2dd-e414-4341-af93-53fbd3ca6cc3
X-WR-CALDESC:
X-WR-RELCALID:de4e6bf151341b2ff7c411f7eb332179
X-WR-TIMEZONE:America/Chicago
BEGIN:VTIMEZONE
TZID:America/Chicago
BEGIN:STANDARD
TZNAME:CST
DTSTART:20191103T020000
TZOFFSETFROM:-0500
TZOFFSETTO:-0600
RDATE:20201101T020000
END:STANDARD
BEGIN:DAYLIGHT
TZNAME:CDT
DTSTART:20190310T020000
TZOFFSETFROM:-0600
TZOFFSETTO:-0500
RDATE:20200308T020000
RDATE:20210314T020000
END:DAYLIGHT
END:VTIMEZONE
BEGIN:VEVENT
UID:2d1f277f-5a0c-48e5-bfe5-b0328a472aa1
DTSTAMP:20260421T232721Z
DESCRIPTION:
DTSTART;TZID=America/Chicago:20200229T103000
DTEND;TZID=America/Chicago:20200229T130000
LOCATION:
SUMMARY:Celebrate the Love
END:VEVENT
END:VCALENDAR
