BEGIN:VCALENDAR
VERSION:2.0
PRODID:-//www.reclaim.care//NONSGML kigkonsult.se iCalcreator 2.30.10//
CALSCALE:GREGORIAN
METHOD:PUBLISH
UID:b0b5f8e0-6aaf-420a-a26d-ed0d75f8b172
X-WR-CALDESC:RECLAIM has a number of upcoming volunteer opportunities for p
 eople who are passionate about supporting queer and trans youth mental hea
 lth. \n\nWe have seasonal orientations to bring in new volunteers! Lunch &
  snacks will be served.\n\nOther upcoming volunteer orientation dates are 
 May 11 and August 10 in the evening.\n\nPlease be sure to fill out a volun
 teer application at: https://www.reclaim.care/how-to-help/volunteer.html\n
 \nRSVP and questions to grey doolin at grey@reclaim.care
X-WR-RELCALID:02ec7a75fc4997510515013c683a199c
X-WR-TIMEZONE:America/Chicago
BEGIN:VTIMEZONE
TZID:America/Chicago
BEGIN:STANDARD
TZNAME:CST
DTSTART:20191103T020000
TZOFFSETFROM:-0500
TZOFFSETTO:-0600
RDATE:20201101T020000
END:STANDARD
BEGIN:DAYLIGHT
TZNAME:CDT
DTSTART:20190310T020000
TZOFFSETFROM:-0600
TZOFFSETTO:-0500
RDATE:20200308T020000
RDATE:20210314T020000
END:DAYLIGHT
END:VTIMEZONE
BEGIN:VEVENT
UID:32402339-7d74-4d58-bf63-fa2a8209c6d1
DTSTAMP:20260421T232525Z
DESCRIPTION:RECLAIM has a number of upcoming volunteer opportunities for pe
 ople who are passionate about supporting queer and trans youth mental heal
 th. \n\nWe have seasonal orientations to bring in new volunteers! Lunch & 
 snacks will be served.\n\nOther upcoming volunteer orientation dates are M
 ay 11 and August 10 in the evening.\n\nPlease be sure to fill out a volunt
 eer application at: https://www.reclaim.care/how-to-help/volunteer.html\n
 \nRSVP and questions to grey doolin at grey@reclaim.care
DTSTART;TZID=America/Chicago:20200210T173000
DTEND;TZID=America/Chicago:20200210T190000
LOCATION:771 Raymond Ave\, St. Paul\, MN 55114
SUMMARY:Volunteer Orientation
END:VEVENT
END:VCALENDAR
