BEGIN:VCALENDAR
VERSION:2.0
PRODID:-//www.reclaim.care//NONSGML kigkonsult.se iCalcreator 2.30.10//
CALSCALE:GREGORIAN
METHOD:PUBLISH
UID:32483d6c-0609-46b8-af14-0ae2b858e2aa
X-WR-CALDESC:RECLAIM has a number of upcoming volunteer opportunities for p
 eople who are passionate about supporting queer and trans youth mental hea
 lth. This orientation will focus on introducing new volunteers to be ambas
 sadors for RECLAIM and preparing for our Celebrate the Love brunch on Febr
 uary 29\, 2019. \n\nLunch & snacks will be served.\n\nRECLAIM ambassadors 
 play a huge role in our community networking and outreach. Ambassadors att
 end tabling and other community outreach events to represent RECLAIM's mis
 sion\, vision\, and work. If you're excited about the work that RECLAIM do
 es and love to talk to folks\, this role is for you!\n\nCelebrate the Love
  volunteers are critical to preparing for and putting on a welcoming\, sty
 lish\, effective event -- from creating decorations and crafts\, setting u
 p\, supporting our silent auction\, and cultivating a hospitable atmospher
 e.\n\nPlease be sure to fill out a volunteer application at: https://www.r
 eclaim.care/how-to-help/volunteer.html\n\nRSVP and questions to grey dooli
 n at grey@reclaim.care
X-WR-RELCALID:8b8af3759f626e1c47fc7f1273132cf9
X-WR-TIMEZONE:America/Chicago
BEGIN:VTIMEZONE
TZID:America/Chicago
BEGIN:STANDARD
TZNAME:CST
DTSTART:20191103T020000
TZOFFSETFROM:-0500
TZOFFSETTO:-0600
RDATE:20201101T020000
END:STANDARD
BEGIN:DAYLIGHT
TZNAME:CDT
DTSTART:20190310T020000
TZOFFSETFROM:-0600
TZOFFSETTO:-0500
RDATE:20200308T020000
RDATE:20210314T020000
END:DAYLIGHT
END:VTIMEZONE
BEGIN:VEVENT
UID:3feb8db4-06b0-44b4-99c5-1e6ef0528cf4
DTSTAMP:20260422T035927Z
DESCRIPTION:RECLAIM has a number of upcoming volunteer opportunities for pe
 ople who are passionate about supporting queer and trans youth mental heal
 th. This orientation will focus on introducing new volunteers to be ambass
 adors for RECLAIM and preparing for our Celebrate the Love brunch on Febru
 ary 29\, 2019. \n\nLunch & snacks will be served.\n\nRECLAIM ambassadors p
 lay a huge role in our community networking and outreach. Ambassadors atte
 nd tabling and other community outreach events to represent RECLAIM's miss
 ion\, vision\, and work. If you're excited about the work that RECLAIM doe
 s and love to talk to folks\, this role is for you!\n\nCelebrate the Love 
 volunteers are critical to preparing for and putting on a welcoming\, styl
 ish\, effective event -- from creating decorations and crafts\, setting up
 \, supporting our silent auction\, and cultivating a hospitable atmosphere
 .\n\nPlease be sure to fill out a volunteer application at: https://www.re
 claim.care/how-to-help/volunteer.html\n\nRSVP and questions to grey doolin
  at grey@reclaim.care
DTSTART;TZID=America/Chicago:20191118T173000
DTEND;TZID=America/Chicago:20191118T193000
LOCATION:771 Raymond Ave\, St. Paul\, MN 55114
SUMMARY:Volunteer Orientation
END:VEVENT
END:VCALENDAR
