BEGIN:VCALENDAR
VERSION:2.0
PRODID:-//www.reclaim.care//NONSGML kigkonsult.se iCalcreator 2.30.10//
CALSCALE:GREGORIAN
METHOD:PUBLISH
UID:58e93f33-066d-4d6d-ba12-6ed913161c06
X-WR-CALDESC:Join us to celebrate 10 years of serving queer and trans youth
 !\n\nRECLAIM is celebrating 10 years with an open house! Come out to meet 
 RECLAIM's staff and board\, learn about the services and resources RECLAIM
  provides\, contribute to the Collective Queer Weaving Project\, tour our 
 space\, hear from some of the queer and trans youth who are part of RECLAI
 M's story\, and be the first to hear about our strategic planning outcomes
  and future direction of RECLAIM. There will be activities for all ages!\n
 \nSaturday\, October 5\, 2019\n2:00 - 7:00 PM\n771 Raymond Ave\nSaint Paul
 \, MN 55114\n\n2:00 - 3:00 PM -- Youth-led all-ages workshop on consent an
 d healthy relationships\n4:00 PM -- 10 Year Anniversary short program\n4:3
 0 - 5:30 PM -- Live episode of Gender Stories postcast by Alex Iantaffi\n
 \nLet us know you're coming by RSVPing at: reclaim10.eventbrite.com
X-WR-RELCALID:1d8ca4d71cbdb5bb612ecd53e0841d98
X-WR-TIMEZONE:America/Chicago
BEGIN:VTIMEZONE
TZID:America/Chicago
BEGIN:STANDARD
TZNAME:CST
DTSTART:20181104T020000
TZOFFSETFROM:-0500
TZOFFSETTO:-0600
RDATE:20191103T020000
RDATE:20201101T020000
END:STANDARD
BEGIN:DAYLIGHT
TZNAME:CDT
DTSTART:20190310T020000
TZOFFSETFROM:-0600
TZOFFSETTO:-0500
RDATE:20200308T020000
RDATE:20210314T020000
END:DAYLIGHT
END:VTIMEZONE
BEGIN:VEVENT
UID:1ff4cec6-1c4c-4d55-806f-7727eea1bdb1
DTSTAMP:20260422T050712Z
DESCRIPTION:Join us to celebrate 10 years of serving queer and trans youth!
 \n\nRECLAIM is celebrating 10 years with an open house! Come out to meet R
 ECLAIM's staff and board\, learn about the services and resources RECLAIM 
 provides\, contribute to the Collective Queer Weaving Project\, tour our s
 pace\, hear from some of the queer and trans youth who are part of RECLAIM
 's story\, and be the first to hear about our strategic planning outcomes 
 and future direction of RECLAIM. There will be activities for all ages!\n
 \nSaturday\, October 5\, 2019\n2:00 - 7:00 PM\n771 Raymond Ave\nSaint Paul
 \, MN 55114\n\n2:00 - 3:00 PM -- Youth-led all-ages workshop on consent an
 d healthy relationships\n4:00 PM -- 10 Year Anniversary short program\n4:3
 0 - 5:30 PM -- Live episode of Gender Stories postcast by Alex Iantaffi\n
 \nLet us know you're coming by RSVPing at: reclaim10.eventbrite.com
DTSTART;TZID=America/Chicago:20191005T140000
DTEND;TZID=America/Chicago:20191005T190000
LOCATION:771 Raymond Ave\, Saint Paul\, MN 55114
SUMMARY:10th Anniversary Open House & Gender Stories Live Podcast
END:VEVENT
END:VCALENDAR
