BEGIN:VCALENDAR
VERSION:2.0
PRODID:-//www.reclaim.care//NONSGML kigkonsult.se iCalcreator 2.30.10//
CALSCALE:GREGORIAN
METHOD:PUBLISH
UID:66583585-e335-4f12-b971-72d628283956
X-WR-CALDESC:This is the 4th event of 2019 for Passages. The exact time\, p
 rogram details\, and a link to register will be published soon!\n\n--\nREC
 LAIM works to increase access to mental health support for queer and trans
  youth. The Passages program aims to change the cultural and systemic land
 scape of healing for Lesbian\, Gay\, Bisexual\, Transgender & Queer people
  (LGBTQ) and People of Color & Indigenous (POCI) individuals and communiti
 es through supporting practitioner development. \n\nPOCI and Transgender/G
 ender Non-Binary students and practitioners of all experience levels from 
 healing and social service disciplines are encouraged to participate. This
  program is open to all practitioners - allies invested in interculturally
  sensitive healing are welcome.   \n\nFree event\, but please register as 
 space is limited through the link for 'tickets' [will be posted soon]. Pla
 n to bring a bag lunch.\n\nPassages is a four-part series that will span s
 everal months. It intends to foster networking\, community connections and
  create institutional change. Attendance at the prior event is not necessa
 ry for participation.\n\nFinally\, please consider taking this short anony
 mous survey: https://goo.gl/forms/vISmqlwY1e55dcVv1 to support us in gathe
 ring valuable narratives. Contact passages@reclaim.care with any questions
 . We look forward to connecting and building community with you!
X-WR-RELCALID:f9810d793f3da9046e10be718fea2786
X-WR-TIMEZONE:America/Chicago
BEGIN:VTIMEZONE
TZID:America/Chicago
BEGIN:STANDARD
TZNAME:CST
DTSTART:20181104T020000
TZOFFSETFROM:-0500
TZOFFSETTO:-0600
RDATE:20191103T020000
RDATE:20201101T020000
END:STANDARD
BEGIN:DAYLIGHT
TZNAME:CDT
DTSTART:20190310T020000
TZOFFSETFROM:-0600
TZOFFSETTO:-0500
RDATE:20200308T020000
RDATE:20210314T020000
END:DAYLIGHT
END:VTIMEZONE
BEGIN:VEVENT
UID:5a172b22-b506-496c-be06-145480e854ac
DTSTAMP:20260422T063311Z
DESCRIPTION:This is the 4th event of 2019 for Passages. The exact time\, pr
 ogram details\, and a link to register will be published soon!\n\n--\nRECL
 AIM works to increase access to mental health support for queer and trans 
 youth. The Passages program aims to change the cultural and systemic lands
 cape of healing for Lesbian\, Gay\, Bisexual\, Transgender & Queer people 
 (LGBTQ) and People of Color & Indigenous (POCI) individuals and communitie
 s through supporting practitioner development. \n\nPOCI and Transgender/Ge
 nder Non-Binary students and practitioners of all experience levels from h
 ealing and social service disciplines are encouraged to participate. This 
 program is open to all practitioners - allies invested in interculturally 
 sensitive healing are welcome.   \n\nFree event\, but please register as s
 pace is limited through the link for 'tickets' [will be posted soon]. Plan
  to bring a bag lunch.\n\nPassages is a four-part series that will span se
 veral months. It intends to foster networking\, community connections and 
 create institutional change. Attendance at the prior event is not necessar
 y for participation.\n\nFinally\, please consider taking this short anonym
 ous survey: https://goo.gl/forms/vISmqlwY1e55dcVv1 to support us in gather
 ing valuable narratives. Contact passages@reclaim.care with any questions.
  We look forward to connecting and building community with you!
DTSTART;TZID=America/Chicago:20190922T000000
DTEND;TZID=America/Chicago:20190922T235900
LOCATION:PrairieCare Institute - 1934 Hennepin Ave\, Suite 300\, Minneapoli
 s\, Minnesota 55403
SUMMARY:Passages
END:VEVENT
END:VCALENDAR
