BEGIN:VCALENDAR
VERSION:2.0
PRODID:-//www.reclaim.care//NONSGML kigkonsult.se iCalcreator 2.30.10//
CALSCALE:GREGORIAN
METHOD:PUBLISH
UID:74b9aa17-7504-4ffb-97f8-d0b0923c3031
X-WR-CALDESC:In these genre-fluid classes\, we’ll surprise ourselves creati
 vely\, remove writing roadblocks\, and come to the empty page with a spiri
 t of curiosity and openness. The focus of these classes will be on generat
 ing new work: each class\, we’ll try a range of prompts and exercises draw
 n from practices including meditation\, theater\, and visual art\, all des
 igned to open up the space for ease\, fun\, vulnerability\, weirdness and 
 experimentation in your writing process. These classes are appropriate bot
 h for beginners and for those who’ve done a lot of writing—accessing and e
 xpressing our creative self is an ongoing process for everyone\, and is so
 mething that can surprise us every day if we let it. Whether you’re intere
 sted in fiction\, nonfiction\, poetry\, hybrid writing\, or all of it\, yo
 u’ll leave the class with the first drafts of lots of new pieces\, and an 
 expanded sense of what’s possible in your writing. \n\nArtist:\nEllie Garr
 an is a writer from Australia working in hybrid forms. They've previously 
 worked as an actor and musician\, and they're now an MFA candidate in poet
 ry at the University of Minnesota.  \n\nDates:\nAugust 14th  \nAugust 28th
 \nSeptember 4th
X-WR-RELCALID:1df819985a8a4dbab4d6513c89743149
X-WR-TIMEZONE:America/Chicago
BEGIN:VTIMEZONE
TZID:America/Chicago
BEGIN:STANDARD
TZNAME:CST
DTSTART:20181104T020000
TZOFFSETFROM:-0500
TZOFFSETTO:-0600
RDATE:20191103T020000
RDATE:20201101T020000
END:STANDARD
BEGIN:DAYLIGHT
TZNAME:CDT
DTSTART:20190310T020000
TZOFFSETFROM:-0600
TZOFFSETTO:-0500
RDATE:20200308T020000
END:DAYLIGHT
END:VTIMEZONE
BEGIN:VEVENT
UID:6743e907-3261-408f-a0a9-35a6d9274359
DTSTAMP:20260422T062619Z
DESCRIPTION:In these genre-fluid classes\, we’ll surprise ourselves creativ
 ely\, remove writing roadblocks\, and come to the empty page with a spirit
  of curiosity and openness. The focus of these classes will be on generati
 ng new work: each class\, we’ll try a range of prompts and exercises drawn
  from practices including meditation\, theater\, and visual art\, all desi
 gned to open up the space for ease\, fun\, vulnerability\, weirdness and e
 xperimentation in your writing process. These classes are appropriate both
  for beginners and for those who’ve done a lot of writing—accessing and ex
 pressing our creative self is an ongoing process for everyone\, and is som
 ething that can surprise us every day if we let it. Whether you’re interes
 ted in fiction\, nonfiction\, poetry\, hybrid writing\, or all of it\, you
 ’ll leave the class with the first drafts of lots of new pieces\, and an e
 xpanded sense of what’s possible in your writing. \n\nArtist:\nEllie Garra
 n is a writer from Australia working in hybrid forms. They've previously w
 orked as an actor and musician\, and they're now an MFA candidate in poetr
 y at the University of Minnesota.  \n\nDates:\nAugust 14th  \nAugust 28th
 \nSeptember 4th
DTSTART;TZID=America/Chicago:20190904T180000
DTEND;TZID=America/Chicago:20190904T200000
LOCATION:771 Raymond Ave\, St. Paul\, MN 55114
SUMMARY:Wildfire mind\, Magician’s mind: a generative writing experiment
END:VEVENT
END:VCALENDAR
