BEGIN:VCALENDAR
VERSION:2.0
PRODID:-//www.reclaim.care//NONSGML kigkonsult.se iCalcreator 2.30.10//
CALSCALE:GREGORIAN
METHOD:PUBLISH
UID:ec775b31-738f-4168-8b7d-2c9472a58b27
X-WR-CALDESC:Project CLEAR (Consent Leads to Empowered Affirming Relationsh
 ips) supports queer and trans youth (ages 11-24) in the Twin Cities to ide
 ntify\, prevent and heal from sexual violence and unhealthy relationships.
  We offer individual\, group and family therapy\, peer education workshops
 \, and staff training. \n\nAt this event we will be celebrating the accomp
 lishments of our first three cohorts of Peer Educators and meeting new you
 ng people interested in learning about consent and healthy relationships. 
 Join us if you are a high school student interested in becoming a Peer Edu
 cator or an educator or mental health professional looking to connect with
  our program! \n\nAccessibility Notes: RECLAIM is located at University an
 d Raymond in St. Paul off of the Green Line and several bus routes. This i
 s a scent-sensitive space. This space has two All Gender Restrooms and no 
 steps or stairs making this space accessible for people who use a wheel ch
 air for mobility. \n\nThis project was supported by Grant No. 2017-CY-AX-0
 005\, awarded by the Office on Violence Against Women\, U.S. Department of
  Justice. The opinions\, findings\, conclusions\, and recommendations expr
 essed in this publication/program/exhibition are those of the author(s) an
 d do not necessarily reflect the views of the Department of Justice\, Offi
 ce on Violence Against Women.
X-WR-RELCALID:0df1b3910ad95273cf4620f2c10d08db
X-WR-TIMEZONE:America/Chicago
BEGIN:VTIMEZONE
TZID:America/Chicago
BEGIN:STANDARD
TZNAME:CST
DTSTART:20181104T020000
TZOFFSETFROM:-0500
TZOFFSETTO:-0600
RDATE:20191103T020000
RDATE:20201101T020000
END:STANDARD
BEGIN:DAYLIGHT
TZNAME:CDT
DTSTART:20190310T020000
TZOFFSETFROM:-0600
TZOFFSETTO:-0500
RDATE:20200308T020000
END:DAYLIGHT
END:VTIMEZONE
BEGIN:VEVENT
UID:40356365-5593-40f9-a2c7-8f914d7d4d47
DTSTAMP:20260422T075058Z
DESCRIPTION:Project CLEAR (Consent Leads to Empowered Affirming Relationshi
 ps) supports queer and trans youth (ages 11-24) in the Twin Cities to iden
 tify\, prevent and heal from sexual violence and unhealthy relationships. 
 We offer individual\, group and family therapy\, peer education workshops\
 , and staff training. \n\nAt this event we will be celebrating the accompl
 ishments of our first three cohorts of Peer Educators and meeting new youn
 g people interested in learning about consent and healthy relationships. J
 oin us if you are a high school student interested in becoming a Peer Educ
 ator or an educator or mental health professional looking to connect with 
 our program! \n\nAccessibility Notes: RECLAIM is located at University and
  Raymond in St. Paul off of the Green Line and several bus routes. This is
  a scent-sensitive space. This space has two All Gender Restrooms and no s
 teps or stairs making this space accessible for people who use a wheel cha
 ir for mobility. \n\nThis project was supported by Grant No. 2017-CY-AX-00
 05\, awarded by the Office on Violence Against Women\, U.S. Department of 
 Justice. The opinions\, findings\, conclusions\, and recommendations expre
 ssed in this publication/program/exhibition are those of the author(s) and
  do not necessarily reflect the views of the Department of Justice\, Offic
 e on Violence Against Women.
DTSTART;TZID=America/Chicago:20190814T153000
DTEND;TZID=America/Chicago:20190814T173000
LOCATION:
SUMMARY:Project CLEAR Open House
END:VEVENT
END:VCALENDAR
