BEGIN:VCALENDAR
VERSION:2.0
PRODID:-//www.reclaim.care//NONSGML kigkonsult.se iCalcreator 2.30.10//
CALSCALE:GREGORIAN
METHOD:PUBLISH
UID:c0cc6f13-481c-410f-a9f0-dd85de0c8b43
X-WR-CALDESC:RECLAIM has a number of upcoming volunteer opportunities for p
 eople who are passionate about supporting queer and trans youth mental hea
 lth. \n\nOne major role is being a RECLAIM Ambassador! Ambassadors represe
 nt RECLAIM at community events\, meetings\, fundraisers\, conferences\, or
  other places where RECLAIM is asked to show up and be present. Folks espe
 cially suited for this role include: former RECLAIM staff and interns\, al
 ums and alum families\, or folks who are knowledgeable about RECLAIM’s pro
 grams and history and have been regularly engaged with the organization. 
 \n\nJoin us for an orientation to being a RECLAIM volunteer. Lunch & snack
 s will be served.\n\nUpcoming volunteer orientations (9:00am-1:00pm):\nSep
 tember 7\, 2019\nOctober 5\nJanuary 4\, 2020\nApril 4\nMay 2\n\n\nPlease b
 e sure to fill out a volunteer application at: https://www.reclaim.care/ho
 w-to-help/volunteer.html\n\nRSVP and questions to grey doolin at grey@recl
 aim.care\n\n(This event was rescheduled from July 13.)
X-WR-RELCALID:3e31543e2d1497d6c6f90248b0a30c8b
X-WR-TIMEZONE:America/Chicago
BEGIN:VTIMEZONE
TZID:America/Chicago
BEGIN:STANDARD
TZNAME:CST
DTSTART:20181104T020000
TZOFFSETFROM:-0500
TZOFFSETTO:-0600
RDATE:20191103T020000
RDATE:20201101T020000
END:STANDARD
BEGIN:DAYLIGHT
TZNAME:CDT
DTSTART:20190310T020000
TZOFFSETFROM:-0600
TZOFFSETTO:-0500
RDATE:20200308T020000
END:DAYLIGHT
END:VTIMEZONE
BEGIN:VEVENT
UID:2badbb83-41ea-417c-842e-deeedf9c4648
DTSTAMP:20260422T080531Z
DESCRIPTION:RECLAIM has a number of upcoming volunteer opportunities for pe
 ople who are passionate about supporting queer and trans youth mental heal
 th. \n\nOne major role is being a RECLAIM Ambassador! Ambassadors represen
 t RECLAIM at community events\, meetings\, fundraisers\, conferences\, or 
 other places where RECLAIM is asked to show up and be present. Folks espec
 ially suited for this role include: former RECLAIM staff and interns\, alu
 ms and alum families\, or folks who are knowledgeable about RECLAIM’s prog
 rams and history and have been regularly engaged with the organization. \n
 \nJoin us for an orientation to being a RECLAIM volunteer. Lunch & snacks 
 will be served.\n\nUpcoming volunteer orientations (9:00am-1:00pm):\nSepte
 mber 7\, 2019\nOctober 5\nJanuary 4\, 2020\nApril 4\nMay 2\n\n\nPlease be 
 sure to fill out a volunteer application at: https://www.reclaim.care/how-
 to-help/volunteer.html\n\nRSVP and questions to grey doolin at grey@reclai
 m.care\n\n(This event was rescheduled from July 13.)
DTSTART;TZID=America/Chicago:20190812T173000
DTEND;TZID=America/Chicago:20190812T203000
LOCATION:771 Raymond Ave\, St. Paul\, MN 55114
SUMMARY:Volunteer Orientation
END:VEVENT
END:VCALENDAR
