BEGIN:VCALENDAR
VERSION:2.0
PRODID:-//www.reclaim.care//NONSGML kigkonsult.se iCalcreator 2.30.10//
CALSCALE:GREGORIAN
METHOD:PUBLISH
UID:11e53f68-d7ee-4e25-a7e6-746ee4edfd62
X-WR-CALDESC:NOTE: We won't be crafting or meeting formally for July\, but 
 will take some time to brainstorm crafting and gratitude activities for fu
 ture Craftitude Circle gatherings. Instead of crafting this month\, you ar
 e invited to join the Volunteer Self Care Salon appreciation event startin
 g at 5:30. Even if you haven't volunteered with RECLAIM before\, we'd love
  for you to meet other volunteers and build community with us!\n\nRECLAIM’
 s Gratitude Circle is a monthly gathering to express our gratitude to our 
 community\, donors\, and other volunteers. So many people step up to make 
 RECLAIM's work to increase mental health support for queer and trans youth
  a possibility and we want to thank them! This is designed to be a low-pre
 ssure\, no commitment opportunity and is a great place to start if you wan
 t to get more involved with RECLAIM.\n\nActivities will be different each 
 time\, but include: signing letters and writing postcards\, making phone c
 alls to donors\, folding/stuffing/preparing mailings\, and creating/delive
 ring handmade gifts to our steadfast supporters. We'll also work on crafts
  and decorations in preparation for our annual Celebrate the Love brunch e
 very February.\n\nWe'll have light snacks and lots of fun! 5:00-6:30 on th
 e Third Monday of each month (unless otherwise indicated).\n\nRSVP to Samu
 el at samuel@reclaim.care. You're invited to fill out our volunteer applic
 ation\, although this is not required.
X-WR-RELCALID:a59d94405d6053f96469e8c14d452ba2
X-WR-TIMEZONE:America/Chicago
BEGIN:VTIMEZONE
TZID:America/Chicago
BEGIN:STANDARD
TZNAME:CST
DTSTART:20181104T020000
TZOFFSETFROM:-0500
TZOFFSETTO:-0600
RDATE:20191103T020000
RDATE:20201101T020000
END:STANDARD
BEGIN:DAYLIGHT
TZNAME:CDT
DTSTART:20190310T020000
TZOFFSETFROM:-0600
TZOFFSETTO:-0500
RDATE:20200308T020000
END:DAYLIGHT
END:VTIMEZONE
BEGIN:VEVENT
UID:7053e4cf-b986-4292-bf15-81d031375d70
DTSTAMP:20260422T093548Z
DESCRIPTION:NOTE: We won't be crafting or meeting formally for July\, but w
 ill take some time to brainstorm crafting and gratitude activities for fut
 ure Craftitude Circle gatherings. Instead of crafting this month\, you are
  invited to join the Volunteer Self Care Salon appreciation event starting
  at 5:30. Even if you haven't volunteered with RECLAIM before\, we'd love 
 for you to meet other volunteers and build community with us!\n\nRECLAIM’s
  Gratitude Circle is a monthly gathering to express our gratitude to our c
 ommunity\, donors\, and other volunteers. So many people step up to make R
 ECLAIM's work to increase mental health support for queer and trans youth 
 a possibility and we want to thank them! This is designed to be a low-pres
 sure\, no commitment opportunity and is a great place to start if you want
  to get more involved with RECLAIM.\n\nActivities will be different each t
 ime\, but include: signing letters and writing postcards\, making phone ca
 lls to donors\, folding/stuffing/preparing mailings\, and creating/deliver
 ing handmade gifts to our steadfast supporters. We'll also work on crafts 
 and decorations in preparation for our annual Celebrate the Love brunch ev
 ery February.\n\nWe'll have light snacks and lots of fun! 5:00-6:30 on the
  Third Monday of each month (unless otherwise indicated).\n\nRSVP to Samue
 l at samuel@reclaim.care. You're invited to fill out our volunteer applica
 tion\, although this is not required.
DTSTART;TZID=America/Chicago:20190715T170000
DTEND;TZID=America/Chicago:20190715T183000
LOCATION:771 Raymond Ave\, St. Paul\, MN 55114
SUMMARY:Volunteer: Craftitude Circle
END:VEVENT
END:VCALENDAR
