BEGIN:VCALENDAR
VERSION:2.0
PRODID:-//www.reclaim.care//NONSGML kigkonsult.se iCalcreator 2.30.10//
CALSCALE:GREGORIAN
METHOD:PUBLISH
UID:ff534015-2585-4f73-ac88-7ddf0ab80589
X-WR-CALDESC:RECLAIM is looking for volunteers for Twin Cities Pride - June
  22-23. Join us for a volunteer orientation and help us get prepared. We'l
 l have dinner for you!\n\nPride Volunteer Orientation\nWednesday\, June 12
 \, 2019 • 5:30-7:30\nRECLAIM - 771 Raymond Ave\, St. Paul\n\nPlease RSVP w
 ith grey doolin at grey@reclaim.care
X-WR-RELCALID:d327407d06ddcf481fcdf3436a82b460
X-WR-TIMEZONE:America/Chicago
BEGIN:VTIMEZONE
TZID:America/Chicago
BEGIN:STANDARD
TZNAME:CST
DTSTART:20181104T020000
TZOFFSETFROM:-0500
TZOFFSETTO:-0600
RDATE:20191103T020000
RDATE:20201101T020000
END:STANDARD
BEGIN:DAYLIGHT
TZNAME:CDT
DTSTART:20190310T020000
TZOFFSETFROM:-0600
TZOFFSETTO:-0500
RDATE:20200308T020000
END:DAYLIGHT
END:VTIMEZONE
BEGIN:VEVENT
UID:a6147344-9bbf-43f9-9fa2-69e7b10eebef
DTSTAMP:20260422T111539Z
DESCRIPTION:RECLAIM is looking for volunteers for Twin Cities Pride - June 
 22-23. Join us for a volunteer orientation and help us get prepared. We'll
  have dinner for you!\n\nPride Volunteer Orientation\nWednesday\, June 12\
 , 2019 • 5:30-7:30\nRECLAIM - 771 Raymond Ave\, St. Paul\n\nPlease RSVP wi
 th grey doolin at grey@reclaim.care
DTSTART;TZID=America/Chicago:20190612T173000
DTEND;TZID=America/Chicago:20190612T193000
LOCATION:771 Raymond Ave\, St. Paul\, MN 55114
SUMMARY:Volunteer Orientation: Pride
END:VEVENT
END:VCALENDAR
