BEGIN:VCALENDAR
VERSION:2.0
PRODID:-//www.reclaim.care//NONSGML kigkonsult.se iCalcreator 2.30.10//
CALSCALE:GREGORIAN
METHOD:PUBLISH
UID:06ddf97b-f2fd-4abe-abaf-70911b7fd3d8
X-WR-CALDESC:RECLAIM! and Sexual Violence Center in Minneapolis will be co-
 facilitating a support group for queer and trans survivors and victims. Th
 e group is CONFIDENTIAL and FREE for folks ages 16 - 24\, who identify any
 where in the LGBTQ+ umbrella\, and who have experienced: domestic abuse\, 
 dating violence\, sexual assault\, stalking\, and/or sex trafficking.\n\nT
 he group will be from 5:00-6:30 p.m. on Wednesdays from April 17th to June
  19th\, 10 sessions in total. It will be held at the Sexual Violence Cente
 r\, 2021 E Hennepin Ave #418\, Minneapolis\, 55413.  \n\nThe group is fund
 ed by the Office on Violence Against Women\, U.S. Department of Justice. L
 ara Richardson\, Advocate at SVC\, and Peiying Shi\, Post-Graduate Mental 
 Health Intern at Reclaim\, will be the co-facilitators of this group.\n\nI
 f you are interested in the group or would like more information\, please 
 contact Peiying Shi by April 12 at either 612-564-2194 (open to phone call
  or text message) or peiying@reclaim.care.
X-WR-RELCALID:011d72ec8da06c52eb66471831a82130
X-WR-TIMEZONE:America/Chicago
BEGIN:VTIMEZONE
TZID:America/Chicago
BEGIN:STANDARD
TZNAME:CST
DTSTART:20181104T020000
TZOFFSETFROM:-0500
TZOFFSETTO:-0600
RDATE:20191103T020000
RDATE:20201101T020000
END:STANDARD
BEGIN:DAYLIGHT
TZNAME:CDT
DTSTART:20190310T020000
TZOFFSETFROM:-0600
TZOFFSETTO:-0500
RDATE:20200308T020000
END:DAYLIGHT
END:VTIMEZONE
BEGIN:VEVENT
UID:e9547fe6-3944-4a62-a030-e1568bc58d82
DTSTAMP:20260422T110341Z
DESCRIPTION:RECLAIM! and Sexual Violence Center in Minneapolis will be co-f
 acilitating a support group for queer and trans survivors and victims. The
  group is CONFIDENTIAL and FREE for folks ages 16 - 24\, who identify anyw
 here in the LGBTQ+ umbrella\, and who have experienced: domestic abuse\, d
 ating violence\, sexual assault\, stalking\, and/or sex trafficking.\n\nTh
 e group will be from 5:00-6:30 p.m. on Wednesdays from April 17th to June 
 19th\, 10 sessions in total. It will be held at the Sexual Violence Center
 \, 2021 E Hennepin Ave #418\, Minneapolis\, 55413.  \n\nThe group is funde
 d by the Office on Violence Against Women\, U.S. Department of Justice. La
 ra Richardson\, Advocate at SVC\, and Peiying Shi\, Post-Graduate Mental H
 ealth Intern at Reclaim\, will be the co-facilitators of this group.\n\nIf
  you are interested in the group or would like more information\, please c
 ontact Peiying Shi by April 12 at either 612-564-2194 (open to phone call 
 or text message) or peiying@reclaim.care.
DTSTART;TZID=America/Chicago:20190605T170000
DTEND;TZID=America/Chicago:20190605T183000
LOCATION:Sexual Violence Center - 2021 E Hennepin Ave #418\, Minneapolis\, 
 55413
SUMMARY:Queer & Trans Survivors and Victims Support Group
END:VEVENT
END:VCALENDAR
