BEGIN:VCALENDAR
VERSION:2.0
PRODID:-//www.reclaim.care//NONSGML kigkonsult.se iCalcreator 2.30.10//
CALSCALE:GREGORIAN
METHOD:PUBLISH
UID:fcf4b7dc-4f04-44c9-bc71-11b4d3ad4d2a
X-WR-CALDESC:Volunteer with us at PRIDE! If you'd like to volunteer with us
  at Golden Valley Pride on June 9 or Twin Cities Pride on June 22-23\, ple
 ase plan to attend this orientation and meet fellow RECLAIM Pride voluntee
 rs. Food and snacks will be served.\n\nRSVP and questions to grey@reclaim.
 care\n\n(photo credit: Tony Webster)
X-WR-RELCALID:318829f721258ce33f7e8f8cbd23e35e
X-WR-TIMEZONE:America/Chicago
BEGIN:VTIMEZONE
TZID:America/Chicago
BEGIN:STANDARD
TZNAME:CST
DTSTART:20181104T020000
TZOFFSETFROM:-0500
TZOFFSETTO:-0600
RDATE:20191103T020000
RDATE:20201101T020000
END:STANDARD
BEGIN:DAYLIGHT
TZNAME:CDT
DTSTART:20190310T020000
TZOFFSETFROM:-0600
TZOFFSETTO:-0500
RDATE:20200308T020000
END:DAYLIGHT
END:VTIMEZONE
BEGIN:VEVENT
UID:44394a8c-ac47-4eea-ba89-7d12978b2cb7
DTSTAMP:20260422T123606Z
DESCRIPTION:Volunteer with us at PRIDE! If you'd like to volunteer with us 
 at Golden Valley Pride on June 9 or Twin Cities Pride on June 22-23\, plea
 se plan to attend this orientation and meet fellow RECLAIM Pride volunteer
 s. Food and snacks will be served.\n\nRSVP and questions to grey@reclaim.c
 are\n\n(photo credit: Tony Webster)
DTSTART;TZID=America/Chicago:20190520T173000
DTEND;TZID=America/Chicago:20190520T193000
LOCATION:771 Raymond Ave\, Saint Paul\, MN 55104
SUMMARY:Volunteer Orientation: Pride
END:VEVENT
END:VCALENDAR
