BEGIN:VCALENDAR
VERSION:2.0
PRODID:-//www.reclaim.care//NONSGML kigkonsult.se iCalcreator 2.30.10//
CALSCALE:GREGORIAN
METHOD:PUBLISH
UID:88ec6d70-27b1-42a1-aa68-b76972c2a5e8
X-WR-CALDESC:Sometimes\, the things we most need to talk about in life are 
 the hardest to put words to. That's where art comes in! Making meaning thr
 ough art can build resilience\, give participants a respite from the oppre
 ssions of the world\, and give voice to previously buried experiences. Mak
 ing art in community with others is even better!\n\nWith funding from ONE 
 Minneapolis\, RECLAIM! is working with Kulture Klub Collaborative to host 
 a 4 month Artist-in-Residence program of art workshops. Located at RECLAIM
 ! every Thursday from 4:30-6:30 (with food served at 4pm!)\, they are FREE
  and open to queer and trans youth ages 13-26. \n\nThe artist-in-residence
  model helps give the youth we serve access to acclaimed\, professional lo
 cal artists\, all of whom are queer and trans themselves. From mixed media
 \, to spoken word\, to fiber arts--youth will be exposed to a wide variety
  of art materials in a LGBTQ-affirming\, low-risk way. Even (and especiall
 y!) if youth don't identify as 'an artist\,' they are welcome to come try 
 out new materials and ideas with the help of these artists.\n\nOur feature
 d artists-in-residence---\nFebruary: Quinn Rivenburgh\nMarch: Junauda Petr
 us\nApril: heather c. lou\nMay: Lisa Marie Brimmer\n\nFind biographies of 
 the artists-in-residence and their websites at: http://www.reclaim.care/ev
 ents/2019-art-workshops.html
X-WR-RELCALID:d1dca75180baeae7046b2e6b5a9257d8
X-WR-TIMEZONE:America/Chicago
BEGIN:VTIMEZONE
TZID:America/Chicago
BEGIN:STANDARD
TZNAME:CST
DTSTART:20181104T020000
TZOFFSETFROM:-0500
TZOFFSETTO:-0600
RDATE:20191103T020000
RDATE:20201101T020000
END:STANDARD
BEGIN:DAYLIGHT
TZNAME:CDT
DTSTART:20190310T020000
TZOFFSETFROM:-0600
TZOFFSETTO:-0500
RDATE:20200308T020000
END:DAYLIGHT
END:VTIMEZONE
BEGIN:VEVENT
UID:0a9560e2-0c87-4f2f-8c88-20ed2bb00545
DTSTAMP:20260422T123724Z
DESCRIPTION:Sometimes\, the things we most need to talk about in life are t
 he hardest to put words to. That's where art comes in! Making meaning thro
 ugh art can build resilience\, give participants a respite from the oppres
 sions of the world\, and give voice to previously buried experiences. Maki
 ng art in community with others is even better!\n\nWith funding from ONE M
 inneapolis\, RECLAIM! is working with Kulture Klub Collaborative to host a
  4 month Artist-in-Residence program of art workshops. Located at RECLAIM!
  every Thursday from 4:30-6:30 (with food served at 4pm!)\, they are FREE 
 and open to queer and trans youth ages 13-26. \n\nThe artist-in-residence 
 model helps give the youth we serve access to acclaimed\, professional loc
 al artists\, all of whom are queer and trans themselves. From mixed media\
 , to spoken word\, to fiber arts--youth will be exposed to a wide variety 
 of art materials in a LGBTQ-affirming\, low-risk way. Even (and especially
 !) if youth don't identify as 'an artist\,' they are welcome to come try o
 ut new materials and ideas with the help of these artists.\n\nOur featured
  artists-in-residence---\nFebruary: Quinn Rivenburgh\nMarch: Junauda Petru
 s\nApril: heather c. lou\nMay: Lisa Marie Brimmer\n\nFind biographies of t
 he artists-in-residence and their websites at: http://www.reclaim.care/eve
 nts/2019-art-workshops.html
DTSTART;TZID=America/Chicago:20190516T160000
DTEND;TZID=America/Chicago:20190516T183000
LOCATION:771 Raymond Ave\, Saint Paul\, MN 55114
SUMMARY:Art Workshops:
END:VEVENT
END:VCALENDAR
