BEGIN:VCALENDAR
VERSION:2.0
PRODID:-//www.reclaim.care//NONSGML kigkonsult.se iCalcreator 2.30.10//
CALSCALE:GREGORIAN
METHOD:PUBLISH
UID:e0bf098f-7ac4-419b-8e29-ce160c1eebf5
X-WR-CALDESC:A workshop on transgender competency for helping professionals
  by Laine Mohnkern\, Mental Health Supervisor at RECLAIM. CEUs available.
 \n\nDate: April 26th\nTime: 8 to 5 PM\nLocation: PrarieCare Institute\, 19
 34 Hennepin Avenue\, Minneapolis\, MN 55403\n\nCost: $99 sliding scale and
  work options available\n\nWorkshop presenter: J. Laine Mohnkern\, MSW\, L
 ICSW – Mental Health Supervisor\, Reclaim\n\n8 CEUs are available for Soci
 al Workers\; Workshop meets CEU criteria for nursing. Psychology\, Marriag
 e and Family Therapy\, Behavioral Health CEUs are pending\n\nFor more info
 rmation\, please contact info@reclaim.care or call 612-235-6743\n\nWorksho
 p Description:\n\nThis training is designed for individuals\, agencies\, a
 nd organizations seeking support to create more accessible and friendly en
 vironments for transgender and gender non-conforming people. The training 
 provides the building blocks for trans competent care in helping professio
 ns. Participants in with workshop will gain a broad understanding of:\n\n-
 Transgender and gender non-conforming (TGNC) identities\n-How to use langu
 age respectfully while promoting common protective factors\n-How individua
 ls\, organizations and clinics can make minor adjustments to increase thei
 r accessibility for transgender and gender non-conforming individuals\n-Ho
 w to increase accessibility intersectionally\, across race\, class\, gende
 r\, and sexual orientation lines\n-How a healing justice approach can be u
 sed to increase assess to competent care
X-WR-RELCALID:ad526f6e6480e0eb66a9f54f36f52fd1
X-WR-TIMEZONE:America/Chicago
BEGIN:VTIMEZONE
TZID:America/Chicago
BEGIN:STANDARD
TZNAME:CST
DTSTART:20181104T020000
TZOFFSETFROM:-0500
TZOFFSETTO:-0600
RDATE:20191103T020000
END:STANDARD
BEGIN:DAYLIGHT
TZNAME:CDT
DTSTART:20190310T020000
TZOFFSETFROM:-0600
TZOFFSETTO:-0500
RDATE:20200308T020000
END:DAYLIGHT
END:VTIMEZONE
BEGIN:VEVENT
UID:334ee1af-2737-4f84-a094-fd0e80cde6e2
DTSTAMP:20260422T140253Z
DESCRIPTION:A workshop on transgender competency for helping professionals 
 by Laine Mohnkern\, Mental Health Supervisor at RECLAIM. CEUs available.\n
 \nDate: April 26th\nTime: 8 to 5 PM\nLocation: PrarieCare Institute\, 1934
  Hennepin Avenue\, Minneapolis\, MN 55403\n\nCost: $99 sliding scale and w
 ork options available\n\nWorkshop presenter: J. Laine Mohnkern\, MSW\, LIC
 SW – Mental Health Supervisor\, Reclaim\n\n8 CEUs are available for Social
  Workers\; Workshop meets CEU criteria for nursing. Psychology\, Marriage 
 and Family Therapy\, Behavioral Health CEUs are pending\n\nFor more inform
 ation\, please contact info@reclaim.care or call 612-235-6743\n\nWorkshop 
 Description:\n\nThis training is designed for individuals\, agencies\, and
  organizations seeking support to create more accessible and friendly envi
 ronments for transgender and gender non-conforming people. The training pr
 ovides the building blocks for trans competent care in helping professions
 . Participants in with workshop will gain a broad understanding of:\n\n-Tr
 ansgender and gender non-conforming (TGNC) identities\n-How to use languag
 e respectfully while promoting common protective factors\n-How individuals
 \, organizations and clinics can make minor adjustments to increase their 
 accessibility for transgender and gender non-conforming individuals\n-How 
 to increase accessibility intersectionally\, across race\, class\, gender\
 , and sexual orientation lines\n-How a healing justice approach can be use
 d to increase assess to competent care
DTSTART;TZID=America/Chicago:20190426T080000
DTEND;TZID=America/Chicago:20190426T170000
LOCATION:PrairieCare Institute - 1934 Hennepin Ave\, Minneapolis\, MN
SUMMARY:Transgender Competent Care for Helping Professionals
END:VEVENT
END:VCALENDAR
