BEGIN:VCALENDAR
VERSION:2.0
PRODID:-//www.reclaim.care//NONSGML kigkonsult.se iCalcreator 2.30.10//
CALSCALE:GREGORIAN
METHOD:PUBLISH
UID:bb1cbe27-17de-4938-82a7-a68c818920a1
X-WR-CALDESC:The purpose of this workshop is to provide a space for practit
 ioners of color and allies to deconstruct the dominant\, majority cultural
  narrative of “professionalism.” \n\nThis presentation sheds light on the 
 fundamental question\, “How do practitioners of color successfully navigat
 e the nurturing and sustaining environments to produce a bi-cultural work 
 experience that honors and integrates one’s culture of origin?”  \n\nThis 
 will be an opportunity to receive eight CEUs for social workers. MFT\, LPC
 /LPCC\, Psychologists\, and Nursing CEUs pending. Two credits for Ethics a
 re also available.\n\nThe presentation is designed to be interactive and d
 iscussion based.   \n\nThis workshop is particularly relevant for supervis
 ors who supervise cross culturally. All allies welcome.\n\nPrairieCare Ins
 titute\n1934 Hennepin Avenue\nMinneapolis MN\, 55403\n\nCost: $99 with sli
 ding scale and work exchange options available.
X-WR-RELCALID:1df06114663540468612b6089ca60167
X-WR-TIMEZONE:America/Chicago
BEGIN:VTIMEZONE
TZID:America/Chicago
BEGIN:STANDARD
TZNAME:CST
DTSTART:20181104T020000
TZOFFSETFROM:-0500
TZOFFSETTO:-0600
RDATE:20191103T020000
END:STANDARD
BEGIN:DAYLIGHT
TZNAME:CDT
DTSTART:20190310T020000
TZOFFSETFROM:-0600
TZOFFSETTO:-0500
RDATE:20200308T020000
END:DAYLIGHT
END:VTIMEZONE
BEGIN:VEVENT
UID:153b8c73-94f0-4f02-acfd-778a3f6152ea
DTSTAMP:20260422T152845Z
DESCRIPTION:The purpose of this workshop is to provide a space for practiti
 oners of color and allies to deconstruct the dominant\, majority cultural 
 narrative of “professionalism.” \n\nThis presentation sheds light on the f
 undamental question\, “How do practitioners of color successfully navigate
  the nurturing and sustaining environments to produce a bi-cultural work e
 xperience that honors and integrates one’s culture of origin?”  \n\nThis w
 ill be an opportunity to receive eight CEUs for social workers. MFT\, LPC/
 LPCC\, Psychologists\, and Nursing CEUs pending. Two credits for Ethics ar
 e also available.\n\nThe presentation is designed to be interactive and di
 scussion based.   \n\nThis workshop is particularly relevant for superviso
 rs who supervise cross culturally. All allies welcome.\n\nPrairieCare Inst
 itute\n1934 Hennepin Avenue\nMinneapolis MN\, 55403\n\nCost: $99 with slid
 ing scale and work exchange options available.
DTSTART;TZID=America/Chicago:20190322T083000
DTEND;TZID=America/Chicago:20190322T163000
LOCATION:1934 Hennepin Avenue\, Minneapolis MN\, 55403
SUMMARY:De-Centering Whiteness: Healing from Institutionalized Oppression i
 n Healthcare Delivery Systems with Dr. Felicia Washington-Sy
END:VEVENT
END:VCALENDAR
