BEGIN:VCALENDAR
VERSION:2.0
PRODID:-//www.reclaim.care//NONSGML kigkonsult.se iCalcreator 2.30.10//
CALSCALE:GREGORIAN
METHOD:PUBLISH
UID:a94f0967-4645-4145-a0a1-0492f3030890
X-WR-CALDESC:Reclaim and Shift MN are collaborating to offer a series of fo
 ur workshops for people who identify as part of the LGBTQ+ community to ga
 ther together\, share food + conversation\, and learn + practice healing s
 kills\, healthy coping\, and stress reduction techniques.\n\nMarch 6th: \n
 ---- Lisa Marie Brimmer: creating our own Vision Boards\n\nMarch 13th:\n--
 -- Junauda Petrus: speculative fiction writing workshop\n---- JooHee Pompl
 un: self-care + self-massage techniques\n\nMarch 20th: \n---- Diane Long: 
 Boundaries\, self-care\, and consent for queers\n\nMarch 27th: \n---- Puma
  Saballos\n---- HC Lou: tarot practice\, interpretation\, identity\, and s
 earching for your own truth\n\n\nThis a safer space.  We will hold each ot
 her accountable to build a space liberated from any type of racism\, homop
 hobia\, transphobia\, ableism\, or other kind of oppression. \n\nFAQ:\n1. 
 Is there a cost to attend?\nNo\, these are all free for the community.\n\n
 2. Do I have to come to all four workshops to attend? \nNo. Our hope is to
  build participants’ tool box of healing skills and connections among comm
 unity members\, so we highly encourage you to come to all four workshops i
 f you can. But no worries if you can only make one or two or three. Each w
 orkshop will be its own individual topic.\n\n3.  Do I have to be a certain
  age to attend?\nNo\, this is open to all LGBTQ+ identifying folx.\n\n4. W
 hat should I expect?\nThe first half we’ll share snacks\, meet each other\
 , and have a facilitated check in. The second half we’ll have a guest pres
 enter who will lead us in learning skills for healing and thriving.
X-WR-RELCALID:7a6ac0f9caeb9021b7e0706dab679ac9
X-WR-TIMEZONE:America/Chicago
BEGIN:VTIMEZONE
TZID:America/Chicago
BEGIN:STANDARD
TZNAME:CST
DTSTART:20181104T020000
TZOFFSETFROM:-0500
TZOFFSETTO:-0600
RDATE:20191103T020000
END:STANDARD
BEGIN:DAYLIGHT
TZNAME:CDT
DTSTART:20180311T020000
TZOFFSETFROM:-0600
TZOFFSETTO:-0500
RDATE:20190310T020000
RDATE:20200308T020000
END:DAYLIGHT
END:VTIMEZONE
BEGIN:VEVENT
UID:30abdaf4-194c-4999-88a1-04061c482fcb
DTSTAMP:20260422T153421Z
DESCRIPTION:Reclaim and Shift MN are collaborating to offer a series of fou
 r workshops for people who identify as part of the LGBTQ+ community to gat
 her together\, share food + conversation\, and learn + practice healing sk
 ills\, healthy coping\, and stress reduction techniques.\n\nMarch 6th: \n-
 --- Lisa Marie Brimmer: creating our own Vision Boards\n\nMarch 13th:\n---
 - Junauda Petrus: speculative fiction writing workshop\n---- JooHee Pomplu
 n: self-care + self-massage techniques\n\nMarch 20th: \n---- Diane Long: B
 oundaries\, self-care\, and consent for queers\n\nMarch 27th: \n---- Puma 
 Saballos\n---- HC Lou: tarot practice\, interpretation\, identity\, and se
 arching for your own truth\n\n\nThis a safer space.  We will hold each oth
 er accountable to build a space liberated from any type of racism\, homoph
 obia\, transphobia\, ableism\, or other kind of oppression. \n\nFAQ:\n1. I
 s there a cost to attend?\nNo\, these are all free for the community.\n\n2
 . Do I have to come to all four workshops to attend? \nNo. Our hope is to 
 build participants’ tool box of healing skills and connections among commu
 nity members\, so we highly encourage you to come to all four workshops if
  you can. But no worries if you can only make one or two or three. Each wo
 rkshop will be its own individual topic.\n\n3.  Do I have to be a certain 
 age to attend?\nNo\, this is open to all LGBTQ+ identifying folx.\n\n4. Wh
 at should I expect?\nThe first half we’ll share snacks\, meet each other\,
  and have a facilitated check in. The second half we’ll have a guest prese
 nter who will lead us in learning skills for healing and thriving.
DTSTART;TZID=America/Chicago:20190306T160000
DTEND;TZID=America/Chicago:20190306T180000
LOCATION:771 Raymond Ave\, Saint Paul\, MN 55114
SUMMARY:Wellness Wednesdays
END:VEVENT
END:VCALENDAR
